BEGIN:VCALENDAR
VERSION:2.0
PRODID:-//pretix//Nonstock_Ticket_Shop//
BEGIN:VEVENT
UID:pretix-nonstock-nonstock2026-0@tickets.nonstock.de
DTSTART;VALUE=DATE:20260710
DTEND;VALUE=DATE:20260712
DESCRIPTION:Tickets: https://tickets.nonstock.de/nonstock/nonstock2026/\nVe
 ranstalter: Kulturwiese Nonstock e.V.
DTSTAMP:20260424T131559Z
LOCATION:Rodensteiner Str. 87\, 64405 Fischbachtal
SUMMARY:Nonstock Festival 2026
END:VEVENT
END:VCALENDAR
